BEGIN:VCALENDAR
VERSION:2.0
PRODID:-//North Broward - ECPv6.15.20//NONSGML v1.0//EN
CALSCALE:GREGORIAN
METHOD:PUBLISH
X-WR-CALNAME:North Broward
X-ORIGINAL-URL:https://northbrowardlinks.org
X-WR-CALDESC:Events for North Broward
REFRESH-INTERVAL;VALUE=DURATION:PT1H
X-Robots-Tag:noindex
X-PUBLISHED-TTL:PT1H
BEGIN:VTIMEZONE
TZID:UTC
BEGIN:STANDARD
TZOFFSETFROM:+0000
TZOFFSETTO:+0000
TZNAME:UTC
DTSTART:20230101T000000
END:STANDARD
END:VTIMEZONE
BEGIN:VEVENT
DTSTART;TZID=UTC:20260127T113000
DTEND;TZID=UTC:20260127T130000
DTSTAMP:20260424T154408
CREATED:20260115T200234Z
LAST-MODIFIED:20260115T200501Z
UID:3085-1769513400-1769518800@northbrowardlinks.org
SUMMARY:Join our Sassy Seniors!
DESCRIPTION:Join the National Trends and Services Facet of North Broward County (FL) Chapter of The Links\, Incorporated and our partner\, DRESS FOR SUCCESS\, as we continue the Sassy Senior Education Series on Tuesday\, January 27\, 2026\, at Redeeming Word (RWCCI) @redeemingword from 11:30 a.m. to 1: p.m. \nOur third workshop\, this month\, features Economic Empowerment Strategies\, Investing\, Avoiding Bank Fraud and more. \n\n\n\nRegister via Eventbrite at\n\nNorth Broward Links (FL) Sassy Seniors Education Series:\n\n\nhttps://www.eventbrite.com/e/north-broward-links-fl-sassy-seniors-education-series-tickets-1980633714758?utm-campaign=social&utm-content=attendeeshare&utm-medium=discovery&utm-term=listing&utm-source=wsa&aff=ebdsshwebmobile\n\nWe look forward to seeing you there!
URL:https://northbrowardlinks.org/event/join-our-sassy-seniors/
END:VEVENT
BEGIN:VEVENT
DTSTART;TZID=UTC:20260107T110000
DTEND;TZID=UTC:20260107T130000
DTSTAMP:20260424T154408
CREATED:20260122T021109Z
LAST-MODIFIED:20260122T021109Z
UID:3096-1767783600-1767790800@northbrowardlinks.org
SUMMARY:TOWN HALL MEETING with REPRESENTATIVE MARIE WOODSON
DESCRIPTION:
URL:https://northbrowardlinks.org/event/town-hall-meeting-with-representative-marie-woodson/
END:VEVENT
BEGIN:VEVENT
DTSTART;TZID=UTC:20251230T133000
DTEND;TZID=UTC:20251230T150000
DTSTAMP:20260424T154408
CREATED:20260122T021323Z
LAST-MODIFIED:20260122T021323Z
UID:3103-1767101400-1767106800@northbrowardlinks.org
SUMMARY:Brain Health Matters!
DESCRIPTION:
URL:https://northbrowardlinks.org/event/brain-health-matters/
END:VEVENT
BEGIN:VEVENT
DTSTART;TZID=UTC:20251230T133000
DTEND;TZID=UTC:20251230T150000
DTSTAMP:20260424T154408
CREATED:20260122T021225Z
LAST-MODIFIED:20260122T021225Z
UID:3101-1767101400-1767106800@northbrowardlinks.org
SUMMARY:Sassy Seniors Financial Education Training
DESCRIPTION:
URL:https://northbrowardlinks.org/event/sassy-seniors-financial-education-training/
END:VEVENT
BEGIN:VEVENT
DTSTART;TZID=UTC:20251108T103000
DTEND;TZID=UTC:20251108T140000
DTSTAMP:20260424T154408
CREATED:20250918T200131Z
LAST-MODIFIED:20250918T200815Z
UID:3043-1762597800-1762610400@northbrowardlinks.org
SUMMARY:30th Anniversary Emerald Essence Luncheon
DESCRIPTION:For nearly three decades\, North Broward County (FL) Chapter of The Links\, Incorporated has remained dedicated to delivering impactful programs\, as a part of The Links\, Incorporated—one of the nation’s oldest and largest volunteer service organizations\, founded in 1946. \nTo commemorate this milestone\, we invite you to join us at the 30th Anniversary Emerald Essence Luncheon on Saturday\, November 8\, 2025\, from 11:00 AM to 2:00 PM at the elegant Pier Sixty-Six\, located at 2301 SE 17th Street\, Fort Lauderdale\, FL 33316. This event features a cocktail reception\, live entertainment\, silent auction and a live performance from a surprise Grammy Award Winning Artist. \nAs a valued supporter\, you will also have the exclusive opportunity to attend a pre-event VIP Reception\, where sponsors and distinguished guests will be honored. As a 501(c)(3) nonprofit organization\, donations made payable to The Links Foundation\, Inc. are fully tax-deductible to the extent permitted by law. If a tax deduction is not needed\, contributions can be made payable to the North Broward County (FL) Chapter of The Links\, Incorporated through this event page. Regardless of the designation\, your generous support will directly fund scholarships\, educational programs\, and community service initiatives that positively impact lives. \nTo view sponsorship opportunities\, click here: Sponsorship Opportunities \nIf you are in need of an invoice for your ticket or sponsorship\, please contact LaTéssa Dotson Hall or Sheri Brown Grosvenor at nbclinks.30thfriendraiser@gmail.com
URL:https://northbrowardlinks.org/event/30th-anniversary-emerald-essence-luncheon/
LOCATION:Pier Sixty-Six Marina and Hotel\, 2301 SE 17th ST\, Fort Lauderdale\, FL\, 33316\, United States
CATEGORIES:NBC
END:VEVENT
BEGIN:VEVENT
DTSTART;TZID=UTC:20251014T080000
DTEND;TZID=UTC:20251107T170000
DTSTAMP:20260424T154408
CREATED:20251014T151055Z
LAST-MODIFIED:20251014T151303Z
UID:3067-1760428800-1762534800@northbrowardlinks.org
SUMMARY:Grammy Winner Erica Campbell performing at Emerald Essence!
DESCRIPTION:
URL:https://northbrowardlinks.org/event/3067/
END:VEVENT
BEGIN:VEVENT
DTSTART;TZID=UTC:20240718T180000
DTEND;TZID=UTC:20240718T210000
DTSTAMP:20260424T154408
CREATED:20240816T190315Z
LAST-MODIFIED:20240828T144648Z
UID:2686-1721325600-1721336400@northbrowardlinks.org
SUMMARY:Link up to vote
DESCRIPTION:
URL:https://northbrowardlinks.org/event/link-up-to-vote/
LOCATION:Redeeming World Christian Center\, 2800 west Prospect Road\, Ft. Lauderdale\, FL\, 33309\, United States
CATEGORIES:NBC
ATTACH;FMTTYPE=image/png:https://northbrowardlinks.org/wp-content/uploads/2024/08/Screenshot-2024-08-16-at-3.00.17 PM.png
END:VEVENT
END:VCALENDAR